BEGIN:VCALENDAR
VERSION:2.0
PRODID:-//Friends of the Organ Mountains-Desert Peaks - ECPv6.15.18//NONSGML v1.0//EN
CALSCALE:GREGORIAN
METHOD:PUBLISH
X-WR-CALNAME:Friends of the Organ Mountains-Desert Peaks
X-ORIGINAL-URL:https://organmountainsdesertpeaks.org
X-WR-CALDESC:Events for Friends of the Organ Mountains-Desert Peaks
REFRESH-INTERVAL;VALUE=DURATION:PT1H
X-Robots-Tag:noindex
X-PUBLISHED-TTL:PT1H
BEGIN:VTIMEZONE
TZID:America/Denver
BEGIN:DAYLIGHT
TZOFFSETFROM:-0700
TZOFFSETTO:-0600
TZNAME:MDT
DTSTART:20230312T090000
END:DAYLIGHT
BEGIN:STANDARD
TZOFFSETFROM:-0600
TZOFFSETTO:-0700
TZNAME:MST
DTSTART:20231105T080000
END:STANDARD
BEGIN:DAYLIGHT
TZOFFSETFROM:-0700
TZOFFSETTO:-0600
TZNAME:MDT
DTSTART:20240310T090000
END:DAYLIGHT
BEGIN:STANDARD
TZOFFSETFROM:-0600
TZOFFSETTO:-0700
TZNAME:MST
DTSTART:20241103T080000
END:STANDARD
BEGIN:DAYLIGHT
TZOFFSETFROM:-0700
TZOFFSETTO:-0600
TZNAME:MDT
DTSTART:20250309T090000
END:DAYLIGHT
BEGIN:STANDARD
TZOFFSETFROM:-0600
TZOFFSETTO:-0700
TZNAME:MST
DTSTART:20251102T080000
END:STANDARD
END:VTIMEZONE
BEGIN:VEVENT
DTSTART;TZID=America/Denver:20240511T090000
DTEND;TZID=America/Denver:20240511T110000
DTSTAMP:20260423T135844
CREATED:20240429T011542Z
LAST-MODIFIED:20240429T173915Z
UID:5305-1715418000-1715425200@organmountainsdesertpeaks.org
SUMMARY:Trails & Tacos
DESCRIPTION:Group Bike Ride\nJoin us in commemorating the 10-year anniversary of the Organ Mountains-Desert Peaks National Monument designation! Together with our partners from our local Bureau of Land Management\, we have organized a month-long series of events to mark this significant occasion.\nJoin Rico and Lance\, our amazing BLM Rangers\, for a morning group mountain bike ride in the stunning South Doña Ana Mountains. This bike ride is perfect for everyone\, but this is not a riding clinic. Familiarity or experience with trail riding is recommended. So grab your bike and join us for a fun-filled morning of exploring nature and getting your heart pumping! And don’t forget to stick around for some delicious tacos afterwards. But more importantly\, this is a chance to connect with our awesome rangers and learn more about their important work in protecting our beautiful public lands. \n  \nRecommended Gear: \nHelmet required \nWater \nGloves recommended \n 
URL:https://organmountainsdesertpeaks.org/event/trails-tacos/
LOCATION:Doña Ana Trailhead\, Desert Wind Way\, Las Cruces\, NM\, 88007\, United States
CATEGORIES:Community Bike Ride,Monument Anniversary
ORGANIZER;CN="Bureau of Land of Management":MAILTO:agiove@blm.gov
END:VEVENT
END:VCALENDAR