BEGIN:VCALENDAR
VERSION:2.0
PRODID:-//Friends of the Organ Mountains-Desert Peaks - ECPv6.15.18//NONSGML v1.0//EN
CALSCALE:GREGORIAN
METHOD:PUBLISH
X-ORIGINAL-URL:https://organmountainsdesertpeaks.org
X-WR-CALDESC:Events for Friends of the Organ Mountains-Desert Peaks
REFRESH-INTERVAL;VALUE=DURATION:PT1H
X-Robots-Tag:noindex
X-PUBLISHED-TTL:PT1H
BEGIN:VTIMEZONE
TZID:America/Denver
BEGIN:DAYLIGHT
TZOFFSETFROM:-0700
TZOFFSETTO:-0600
TZNAME:MDT
DTSTART:20230312T090000
END:DAYLIGHT
BEGIN:STANDARD
TZOFFSETFROM:-0600
TZOFFSETTO:-0700
TZNAME:MST
DTSTART:20231105T080000
END:STANDARD
BEGIN:DAYLIGHT
TZOFFSETFROM:-0700
TZOFFSETTO:-0600
TZNAME:MDT
DTSTART:20240310T090000
END:DAYLIGHT
BEGIN:STANDARD
TZOFFSETFROM:-0600
TZOFFSETTO:-0700
TZNAME:MST
DTSTART:20241103T080000
END:STANDARD
BEGIN:DAYLIGHT
TZOFFSETFROM:-0700
TZOFFSETTO:-0600
TZNAME:MDT
DTSTART:20250309T090000
END:DAYLIGHT
BEGIN:STANDARD
TZOFFSETFROM:-0600
TZOFFSETTO:-0700
TZNAME:MST
DTSTART:20251102T080000
END:STANDARD
END:VTIMEZONE
BEGIN:VEVENT
DTSTART;TZID=America/Denver:20241208T130000
DTEND;TZID=America/Denver:20241208T170000
DTSTAMP:20260420T082117
CREATED:20241204T151258Z
LAST-MODIFIED:20241204T151539Z
UID:6644-1733662800-1733677200@organmountainsdesertpeaks.org
SUMMARY:Peña Blanca Guided Hike
DESCRIPTION:Join us for a guided hike led by Tom Dormody\, where you’ll discover the local plants and history of the area! The hike covers a distance of 3.5 miles round-trip.\nDue to the nature of this Wilderness Area\, we must limit the number of participants for this hike. Registration is required to attend! \nMORE INFO \nTo reach the starting point\, take the Mesquite exit off I-10 and head east on County Road 8059. Continue on County Road 8059 until you cross Las Alturas Drive (the east side frontage road of I-10). Keep heading east until you arrive at the Sierra Vista Trailhead parking lot\, where we’ll begin our hike at 1:00 PM. Look for our guide driving an orange Ford Escape. \n\nTrail difficulty: Challenging\nEstimated duration: Approximately 3 hours\, allowing ample time for exploration.\n\nRECOMMENDED GEAR: \n\nTrekking poles and sturdy hiking shoes are advised.\nPlease ensure you stay hydrated before and during the hike\, and bring along some light snacks
URL:https://organmountainsdesertpeaks.org/event/pena-blanca-guided-hike-copy/
LOCATION:Peña Blanca\, County rd B059- 32.21004\, -106.61459\, Mesquite\, NM\, 88048\, United States
CATEGORIES:Docent Hike
ORGANIZER;CN="Friends of the Organ Mountains-Desert Peaks":MAILTO:jessica@organmtnfriends.org
END:VEVENT
BEGIN:VEVENT
DTSTART;TZID=America/Denver:20241222T130000
DTEND;TZID=America/Denver:20241222T163000
DTSTAMP:20260420T082117
CREATED:20241211T162628Z
LAST-MODIFIED:20241213T221006Z
UID:6669-1734872400-1734885000@organmountainsdesertpeaks.org
SUMMARY:Dripping Springs Guided Hike
DESCRIPTION:Join us for an exciting holiday guided hike at Dripping Springs\, the perfect way to celebrate the season. We will begin hiking right at 1 PM on Sunday\, Dec 22.  After the hike\, gather with fellow adventurers to indulge in some sweet treats. We can’t wait to see you there and share in the joy of the winter in OMDP. Remember to dress warmly and wear sturdy shoes for a comfortable journey. \nWhether you are a seasoned hiker or a beginner\, this guided hike is suitable for all skill levels. Our knowledgeable guide will provide interesting insights about the area’s history\, flora\, and fauna\, making it an educational and enjoyable adventure. \nMORE INFO \nHike is led by Tom Dormody \nEasy-moderate hike\, takes roughly 3-3.5 hours so please plan accordingly. \nWe will meet at the visitor center and begin hiking at exactly 1 PM (please be on time) \nPARKING: \nParking available at the visitor center \nThis is a free event but there is a $5 parking fee \nNo dogs allowed on this trail \nRECOMMENDED GEAR: \nPlenty of water \nGood hiking shoes \nSnacks \nSunscreen/Bug spray \nHiking stick \n 
URL:https://organmountainsdesertpeaks.org/event/dripping-springs-guided-hike-3/
LOCATION:Dripping Springs Visitor Center\, 15000 Dripping Springs Rd\, Las Cruces\, NM\, 88011\, United States
CATEGORIES:Docent Hike
ATTACH;FMTTYPE=image/jpeg:https://organmountainsdesertpeaks.org/wp-content/uploads/2023/10/IMG_7274-2-e1727812894581.jpg
ORGANIZER;CN="Friends of the Organ Mountains-Desert Peaks":MAILTO:jessica@organmtnfriends.org
END:VEVENT
END:VCALENDAR