BEGIN:VCALENDAR
VERSION:2.0
PRODID:-//Friends of the Organ Mountains-Desert Peaks - ECPv6.15.18//NONSGML v1.0//EN
CALSCALE:GREGORIAN
METHOD:PUBLISH
X-WR-CALNAME:Friends of the Organ Mountains-Desert Peaks
X-ORIGINAL-URL:https://organmountainsdesertpeaks.org
X-WR-CALDESC:Events for Friends of the Organ Mountains-Desert Peaks
REFRESH-INTERVAL;VALUE=DURATION:PT1H
X-Robots-Tag:noindex
X-PUBLISHED-TTL:PT1H
BEGIN:VTIMEZONE
TZID:America/Denver
BEGIN:DAYLIGHT
TZOFFSETFROM:-0700
TZOFFSETTO:-0600
TZNAME:MDT
DTSTART:20240310T090000
END:DAYLIGHT
BEGIN:STANDARD
TZOFFSETFROM:-0600
TZOFFSETTO:-0700
TZNAME:MST
DTSTART:20241103T080000
END:STANDARD
BEGIN:DAYLIGHT
TZOFFSETFROM:-0700
TZOFFSETTO:-0600
TZNAME:MDT
DTSTART:20250309T090000
END:DAYLIGHT
BEGIN:STANDARD
TZOFFSETFROM:-0600
TZOFFSETTO:-0700
TZNAME:MST
DTSTART:20251102T080000
END:STANDARD
BEGIN:DAYLIGHT
TZOFFSETFROM:-0700
TZOFFSETTO:-0600
TZNAME:MDT
DTSTART:20260308T090000
END:DAYLIGHT
BEGIN:STANDARD
TZOFFSETFROM:-0600
TZOFFSETTO:-0700
TZNAME:MST
DTSTART:20261101T080000
END:STANDARD
END:VTIMEZONE
BEGIN:VEVENT
DTSTART;TZID=America/Denver:20250101T133000
DTEND;TZID=America/Denver:20250101T150000
DTSTAMP:20260420T064637
CREATED:20241212T170502Z
LAST-MODIFIED:20241212T170544Z
UID:6674-1735738200-1735743600@organmountainsdesertpeaks.org
SUMMARY:Sierra Vista Trail Guided hike
DESCRIPTION:Sierra Vista Trailhead off Dripping Springs Rd\nHappy New Years! Kick off your 2025 on the foot!🥾\nTake in beautiful vistas of the Monument and Mesilla Valley while docent Tom Dormody leads you through our history with the land with quotes and perspectives of famed naturalists\, conservationists\, and environmental scientists (4 miles round trip) \nWe will begin this hike right at 1:30 pm so please be on time! \nPARKING: \nParking available at Sierra Vista Trail \nRECOMMENDED GEAR: \nPlenty of water \nGood hiking shoes \nSnacks \nSunscreen/Bug spray \n  \nDOGS MUST BE LEASHED
URL:https://organmountainsdesertpeaks.org/event/sierra-vista-trailhead-guided-hike/
LOCATION:Sierra Vista Trail\, Dripping Springs Rd\, Las Cruces\, NM\, 88011\, United States
CATEGORIES:Docent Hike
ORGANIZER;CN="Friends of the Organ Mountains-Desert Peaks":MAILTO:jessica@organmtnfriends.org
END:VEVENT
BEGIN:VEVENT
DTSTART;TZID=America/Denver:20250111T100000
DTEND;TZID=America/Denver:20250111T130000
DTSTAMP:20260420T064637
CREATED:20240401T205849Z
LAST-MODIFIED:20250109T232129Z
UID:5045-1736589600-1736600400@organmountainsdesertpeaks.org
SUMMARY:Picacho Peak Guided Hike
DESCRIPTION:Volcanoes & Trail Dust\, Part 2 \nLocation: Picacho Peak Recreation Area\, Las Cruces\, NM\nDuration: 3 to 3.5 hours (Please be mindful of this to allow our guides plenty of time to present their material)\nTotal Distance: About 3.5 miles. Our guides will make frequent stops along the way. \nEver wondered about that volcano in our backyard or what the “Butterfield Trail” was? Join us for a scenic\, guided hike in the Picacho Peak Recreation Area of the Organ Mountains-Desert Peaks National Monument. Learn about the National Monument\, the geology of Picacho Peak and the southern Rio Grande Valley\, and the historic Butterfield Overland Trail which passed nearby. This hike is Part 2 of a 2-part series. Part 1 emphasizes area geology. Part 2 emphasizes the history of the Butterfield Overland Trail. \nTrail Conditions & Gear:\nThis hike is rated moderate due to some rocky and sandy terrain\, uneven ground\, and a few short inclines and descents. Hiking poles and comfortable hiking shoes or boots will be helpful and hikers should bring at least 1 liter of water. No water or restrooms will be available on this hike. Remember to dress for the weather and check weather conditions before the hike. \nDriving Directions:\nTake US Highway 70 west from Las Cruces to Picacho Hills. Turn north on Picacho Hills Drive and after 1 mile continue west on Barcelona Ridge Road. Travel 1 mile west and turn north on Anthem Road. Follow Anthem Road for 1 mile to its end. Turn north on Picacho Mountain Loop Road (unpaved) and follow this for 1.5 miles to the trailhead parking area. A 4-wheel drive vehicle is recommended due to some rough and sandy areas in the unpaved road.
URL:https://organmountainsdesertpeaks.org/event/earth-day-picacho-peak-guided-hike/
LOCATION:Picacho Peak Recreation Area
CATEGORIES:Docent Hike
ORGANIZER;CN="Friends of the Organ Mountains-Desert Peaks":MAILTO:jessica@organmtnfriends.org
END:VEVENT
END:VCALENDAR