BEGIN:VCALENDAR
VERSION:2.0
PRODID:-//Friends of the Organ Mountains-Desert Peaks - ECPv6.15.18//NONSGML v1.0//EN
CALSCALE:GREGORIAN
METHOD:PUBLISH
X-ORIGINAL-URL:https://organmountainsdesertpeaks.org
X-WR-CALDESC:Events for Friends of the Organ Mountains-Desert Peaks
REFRESH-INTERVAL;VALUE=DURATION:PT1H
X-Robots-Tag:noindex
X-PUBLISHED-TTL:PT1H
BEGIN:VTIMEZONE
TZID:America/Denver
BEGIN:DAYLIGHT
TZOFFSETFROM:-0700
TZOFFSETTO:-0600
TZNAME:MDT
DTSTART:20240310T090000
END:DAYLIGHT
BEGIN:STANDARD
TZOFFSETFROM:-0600
TZOFFSETTO:-0700
TZNAME:MST
DTSTART:20241103T080000
END:STANDARD
BEGIN:DAYLIGHT
TZOFFSETFROM:-0700
TZOFFSETTO:-0600
TZNAME:MDT
DTSTART:20250309T090000
END:DAYLIGHT
BEGIN:STANDARD
TZOFFSETFROM:-0600
TZOFFSETTO:-0700
TZNAME:MST
DTSTART:20251102T080000
END:STANDARD
BEGIN:DAYLIGHT
TZOFFSETFROM:-0700
TZOFFSETTO:-0600
TZNAME:MDT
DTSTART:20260308T090000
END:DAYLIGHT
BEGIN:STANDARD
TZOFFSETFROM:-0600
TZOFFSETTO:-0700
TZNAME:MST
DTSTART:20261101T080000
END:STANDARD
END:VTIMEZONE
BEGIN:VEVENT
DTSTART;TZID=America/Denver:20250309T133000
DTEND;TZID=America/Denver:20250309T163000
DTSTAMP:20260420T032608
CREATED:20250303T181316Z
LAST-MODIFIED:20250303T183345Z
UID:6975-1741527000-1741537800@organmountainsdesertpeaks.org
SUMMARY:Peña Blanca Guided Hike
DESCRIPTION:Join us for a guided hike led by Tom Dormody\, where you’ll discover the local plants and history of the area! The hike covers a distance of 3.5-4 miles round-trip.\nDue to the nature of this Wilderness Area\, we must limit the number of participants for this hike. Registration is required to attend! \nMORE INFO \nTo reach the starting point\, take the Mesquite exit off I-10 and head east on County Road 8059. Continue on County Road 8059 until you cross Las Alturas Drive (the east side frontage road of I-10). Keep heading east until you arrive at the Sierra Vista Trailhead parking lot\, where we’ll begin our hike at 1:30 PM. Look for our guide driving an orange Ford Escape. \n\nTrail difficulty: Challenging\nEstimated duration: Approximately 3 hours\, allowing ample time for exploration.\n\nRECOMMENDED GEAR: \n\nTrekking poles and sturdy hiking shoes are advised.\nPlease ensure you stay hydrated before and during the hike\, and bring along some light snacks
URL:https://organmountainsdesertpeaks.org/event/pena-blanca-guided-hike-3/
LOCATION:Peña Blanca\, County rd B059- 32.21004\, -106.61459\, Mesquite\, NM\, 88048\, United States
CATEGORIES:Docent Hike
ORGANIZER;CN="Friends of the Organ Mountains-Desert Peaks":MAILTO:jessica@organmtnfriends.org
END:VEVENT
BEGIN:VEVENT
DTSTART;TZID=America/Denver:20250323T133000
DTEND;TZID=America/Denver:20250323T163000
DTSTAMP:20260420T032608
CREATED:20250303T183126Z
LAST-MODIFIED:20250303T183243Z
UID:6980-1742736600-1742747400@organmountainsdesertpeaks.org
SUMMARY:Sunset Vista Hike
DESCRIPTION:Sunset Vista Guided Hike \nJoin us for an unforgettable outdoor adventure at the Sunset Vista Guided Hike! On Sunday\, March 23\, at 1:30 pm\, we will embark on a scenic hike along the breathtaking Sierra Vista Trail in Las Cruces\, NM\, USA. This is a guided hike and we’ll be covering a total distance of 5 miles. Our guide will make frequent stops\, so plan accordingly to ensure that he will have sufficient time to cover the material. \nImmerse yourself in the beauty of nature as we explore the stunning landscapes and witness the mesmerizing sunset views. Led by our experienced guide\, Tom Dormody. \nLocation: Sierra Vista Trail\, Las Cruces\, NM\, USA\, Las Cruces\, NM 88011 \nTrail Conditions: Moderate slopes and some stretches of loose rock and gravel. \nGear: Dress for the weather conditions (check your weather app the morning of the hike). Comfortable hiking shoes or boots and trekking poles will be helpful. Carry a liter of water. \nDescription: Enjoy some unique views of the Organ Mountains and other Desert Peaks as the sun starts to set during this scenic 5 mile hike on dirt roads and trails east of the Sierra Vista Trail.
URL:https://organmountainsdesertpeaks.org/event/sunset-vista-hike/
LOCATION:Sierra Vista Trail\, Dripping Springs Rd\, Las Cruces\, NM\, 88011\, United States
CATEGORIES:Docent Hike
ORGANIZER;CN="Friends of the Organ Mountains-Desert Peaks":MAILTO:jessica@organmtnfriends.org
END:VEVENT
END:VCALENDAR