BEGIN:VCALENDAR
VERSION:2.0
PRODID:-//Friends of the Organ Mountains-Desert Peaks - ECPv6.15.18//NONSGML v1.0//EN
CALSCALE:GREGORIAN
METHOD:PUBLISH
X-WR-CALNAME:Friends of the Organ Mountains-Desert Peaks
X-ORIGINAL-URL:https://organmountainsdesertpeaks.org
X-WR-CALDESC:Events for Friends of the Organ Mountains-Desert Peaks
REFRESH-INTERVAL;VALUE=DURATION:PT1H
X-Robots-Tag:noindex
X-PUBLISHED-TTL:PT1H
BEGIN:VTIMEZONE
TZID:America/Denver
BEGIN:DAYLIGHT
TZOFFSETFROM:-0700
TZOFFSETTO:-0600
TZNAME:MDT
DTSTART:20240310T090000
END:DAYLIGHT
BEGIN:STANDARD
TZOFFSETFROM:-0600
TZOFFSETTO:-0700
TZNAME:MST
DTSTART:20241103T080000
END:STANDARD
BEGIN:DAYLIGHT
TZOFFSETFROM:-0700
TZOFFSETTO:-0600
TZNAME:MDT
DTSTART:20250309T090000
END:DAYLIGHT
BEGIN:STANDARD
TZOFFSETFROM:-0600
TZOFFSETTO:-0700
TZNAME:MST
DTSTART:20251102T080000
END:STANDARD
BEGIN:DAYLIGHT
TZOFFSETFROM:-0700
TZOFFSETTO:-0600
TZNAME:MDT
DTSTART:20260308T090000
END:DAYLIGHT
BEGIN:STANDARD
TZOFFSETFROM:-0600
TZOFFSETTO:-0700
TZNAME:MST
DTSTART:20261101T080000
END:STANDARD
END:VTIMEZONE
BEGIN:VEVENT
DTSTART;TZID=America/Denver:20250419T080000
DTEND;TZID=America/Denver:20250419T120000
DTSTAMP:20260420T015603
CREATED:20240429T001643Z
LAST-MODIFIED:20250411T214400Z
UID:5297-1745049600-1745064000@organmountainsdesertpeaks.org
SUMMARY:Volcanoes & Trail Dust: Picacho Peak Hike
DESCRIPTION:Volcanoes & Trail Dust\, Part 1\nThis hike does not go to the peak but around the area\nDate & Time: Saturday April 19\, 2025\nLocation: Picacho Peak Recreation Area\, Las Cruces\, NM\nDuration: 3.5 to 4 hours\nTotal Distance: About 3.5 miles. Our guides will make frequent stops along the way. \nEver wondered about that volcano in our backyard or what the “Butterfield Trail” was? Join us for a scenic\, guided hike in the Picacho Peak Recreation area of the Organ Mountains-Desert Peaks National Monument and learn about the national monument\, the geology of our area and the historic Butterfield Overland Trail. The focus will be geology. PT 2 will focus on History \nTrail Conditions & Gear:\nThis hike is rated moderate due to some rocky and sandy terrain\, uneven ground\, and a few short inclines and descents. Hiking poles and comfortable hiking shoes or boots will be helpful and hikers should bring at least 1 liter of water. No water or restrooms will be available on this hike. Remember to dress for the weather and check weather conditions before the hike. \nDriving Directions:\nTake US Highway 70 west from Las Cruces to Picacho Hills. Turn north on Picacho Hills Drive and after 1 mile continue west on Barcelona Ridge Road. Travel 1 mile west and turn north on Anthem Road. Follow Anthem Road for 1 mile to its end. Turn north on Picacho Mountain Loop Road (unpaved) and follow this for 1.5 miles to the trailhead parking area. A 4-wheel drive vehicle is recommended due to some rough and sandy areas in the unpaved road. \n  \n\n \n\n\n 
URL:https://organmountainsdesertpeaks.org/event/volcanoes-trail-dust-picacho-peak-hike/
LOCATION:Picacho Peak Recreation Area
CATEGORIES:Docent Hike
ORGANIZER;CN="Friends of the Organ Mountains-Desert Peaks":MAILTO:jessica@organmtnfriends.org
END:VEVENT
END:VCALENDAR