BEGIN:VCALENDAR
VERSION:2.0
PRODID:-//Friends of the Organ Mountains-Desert Peaks - ECPv6.15.18//NONSGML v1.0//EN
CALSCALE:GREGORIAN
METHOD:PUBLISH
X-ORIGINAL-URL:https://organmountainsdesertpeaks.org
X-WR-CALDESC:Events for Friends of the Organ Mountains-Desert Peaks
REFRESH-INTERVAL;VALUE=DURATION:PT1H
X-Robots-Tag:noindex
X-PUBLISHED-TTL:PT1H
BEGIN:VTIMEZONE
TZID:America/Denver
BEGIN:DAYLIGHT
TZOFFSETFROM:-0700
TZOFFSETTO:-0600
TZNAME:MDT
DTSTART:20230312T090000
END:DAYLIGHT
BEGIN:STANDARD
TZOFFSETFROM:-0600
TZOFFSETTO:-0700
TZNAME:MST
DTSTART:20231105T080000
END:STANDARD
BEGIN:DAYLIGHT
TZOFFSETFROM:-0700
TZOFFSETTO:-0600
TZNAME:MDT
DTSTART:20240310T090000
END:DAYLIGHT
BEGIN:STANDARD
TZOFFSETFROM:-0600
TZOFFSETTO:-0700
TZNAME:MST
DTSTART:20241103T080000
END:STANDARD
BEGIN:DAYLIGHT
TZOFFSETFROM:-0700
TZOFFSETTO:-0600
TZNAME:MDT
DTSTART:20250309T090000
END:DAYLIGHT
BEGIN:STANDARD
TZOFFSETFROM:-0600
TZOFFSETTO:-0700
TZNAME:MST
DTSTART:20251102T080000
END:STANDARD
END:VTIMEZONE
BEGIN:VEVENT
DTSTART;TZID=America/Denver:20241012T083000
DTEND;TZID=America/Denver:20241012T110000
DTSTAMP:20260420T132857
CREATED:20241001T192226Z
LAST-MODIFIED:20241001T194727Z
UID:6494-1728721800-1728730800@organmountainsdesertpeaks.org
SUMMARY:Fillmore Canyon Guided Hike
DESCRIPTION:Join us to learn about the geology and mining history of Fillmore Canyon! \nDiscover the fascinating world of geology and delve into the rich mining history of Fillmore Canyon. Our knowledgeable docent\, Tom Dormody will guide us through the geological wonders of the area\, sharing captivating stories and insights along the way. Grab your friends and family\, and come join us for an unforgettable adventure! \nDUE TO THE TRAIL BEING IN A WILDERNESS AREA\, WE MUST LIMIT OUR CAPACITY  \nTheme: Geology and mining history of Fillmore Canyon \nHike is led by Tom Dormody \nGoing towards Dripping Springs turn left on at La Cueva. We will meet at the first parking lot at the La Cueva trailhead \nHike is free to join but attendees will be responsible for paying the $5 parking fee \nThis trail is an easy-moderate level. Expect many stops along the way! \nThis hike will take about 2 and a half hours so please plan accordingly. \nRECOMMENDED GEAR: \nPlenty of water \nProper clothing \nGood hiking shoes \nSnacks \nSunscreen \nHiking stick (recommended but not necessary)
URL:https://organmountainsdesertpeaks.org/event/fillmore-canyon-guided-hike-2/
LOCATION:La Cueva Picnic Area\, Las Cruces\, NM\, 88011\, United States
CATEGORIES:Docent Hike
ATTACH;FMTTYPE=image/jpeg:https://organmountainsdesertpeaks.org/wp-content/uploads/2024/10/IMG_3864-e1727812187149.jpg
ORGANIZER;CN="Friends of the Organ Mountains-Desert Peaks":MAILTO:jessica@organmtnfriends.org
END:VEVENT
END:VCALENDAR