BEGIN:VCALENDAR
VERSION:2.0
PRODID:-//Friends of the Organ Mountains-Desert Peaks - ECPv6.15.18//NONSGML v1.0//EN
CALSCALE:GREGORIAN
METHOD:PUBLISH
X-ORIGINAL-URL:https://organmountainsdesertpeaks.org
X-WR-CALDESC:Events for Friends of the Organ Mountains-Desert Peaks
REFRESH-INTERVAL;VALUE=DURATION:PT1H
X-Robots-Tag:noindex
X-PUBLISHED-TTL:PT1H
BEGIN:VTIMEZONE
TZID:America/Denver
BEGIN:DAYLIGHT
TZOFFSETFROM:-0700
TZOFFSETTO:-0600
TZNAME:MDT
DTSTART:20230312T090000
END:DAYLIGHT
BEGIN:STANDARD
TZOFFSETFROM:-0600
TZOFFSETTO:-0700
TZNAME:MST
DTSTART:20231105T080000
END:STANDARD
BEGIN:DAYLIGHT
TZOFFSETFROM:-0700
TZOFFSETTO:-0600
TZNAME:MDT
DTSTART:20240310T090000
END:DAYLIGHT
BEGIN:STANDARD
TZOFFSETFROM:-0600
TZOFFSETTO:-0700
TZNAME:MST
DTSTART:20241103T080000
END:STANDARD
BEGIN:DAYLIGHT
TZOFFSETFROM:-0700
TZOFFSETTO:-0600
TZNAME:MDT
DTSTART:20250309T090000
END:DAYLIGHT
BEGIN:STANDARD
TZOFFSETFROM:-0600
TZOFFSETTO:-0700
TZNAME:MST
DTSTART:20251102T080000
END:STANDARD
END:VTIMEZONE
BEGIN:VEVENT
DTSTART;TZID=America/Denver:20241116T083000
DTEND;TZID=America/Denver:20241116T110000
DTSTAMP:20260420T112606
CREATED:20240927T161418Z
LAST-MODIFIED:20241001T195602Z
UID:6445-1731745800-1731754800@organmountainsdesertpeaks.org
SUMMARY:Soledad Canyon/Bar Canyon
DESCRIPTION:Where: Soledad Canyon\nWhen: Saturday\, November 16th at 8:30 AM; expected finish around 10:30 or 11:00 AM\nDistance: Approximately 3 miles\nFamily-friendly event! \nJoin Jim Enright for this moderate hike of about 3 miles\, which will take roughly 2.5 hours. You’ll have the opportunity to learn about the area’s history and plant life. The route follows a maintained trail leading uphill to the Simmers Homestead before looping back. The path is somewhat rocky with loose stones\, so wearing supportive footwear such as boots is recommended. Make sure to take plenty of water\, snacks\, and sun protection. Please note that there are no bathrooms or water available at the beginning or along the hike. \nRegistration will become available closer to date
URL:https://organmountainsdesertpeaks.org/event/soledad-canyon-bar-canyon/
LOCATION:Soledad Canyon\, 13300 Soledad Canyon Rd\, Las Cruces\, NM\, 88011\, United States
CATEGORIES:Docent Hike
ATTACH;FMTTYPE=image/jpeg:https://organmountainsdesertpeaks.org/wp-content/uploads/2024/09/IMG_2383_Original-e1727812618407.jpeg
ORGANIZER;CN="Friends of the Organ Mountains-Desert Peaks":MAILTO:jessica@organmtnfriends.org
END:VEVENT
END:VCALENDAR