BEGIN:VCALENDAR
VERSION:2.0
PRODID:-//Friends of the Organ Mountains-Desert Peaks - ECPv6.15.18//NONSGML v1.0//EN
CALSCALE:GREGORIAN
METHOD:PUBLISH
X-ORIGINAL-URL:https://organmountainsdesertpeaks.org
X-WR-CALDESC:Events for Friends of the Organ Mountains-Desert Peaks
REFRESH-INTERVAL;VALUE=DURATION:PT1H
X-Robots-Tag:noindex
X-PUBLISHED-TTL:PT1H
BEGIN:VTIMEZONE
TZID:America/Denver
BEGIN:DAYLIGHT
TZOFFSETFROM:-0700
TZOFFSETTO:-0600
TZNAME:MDT
DTSTART:20240310T090000
END:DAYLIGHT
BEGIN:STANDARD
TZOFFSETFROM:-0600
TZOFFSETTO:-0700
TZNAME:MST
DTSTART:20241103T080000
END:STANDARD
BEGIN:DAYLIGHT
TZOFFSETFROM:-0700
TZOFFSETTO:-0600
TZNAME:MDT
DTSTART:20250309T090000
END:DAYLIGHT
BEGIN:STANDARD
TZOFFSETFROM:-0600
TZOFFSETTO:-0700
TZNAME:MST
DTSTART:20251102T080000
END:STANDARD
BEGIN:DAYLIGHT
TZOFFSETFROM:-0700
TZOFFSETTO:-0600
TZNAME:MDT
DTSTART:20260308T090000
END:DAYLIGHT
BEGIN:STANDARD
TZOFFSETFROM:-0600
TZOFFSETTO:-0700
TZNAME:MST
DTSTART:20261101T080000
END:STANDARD
END:VTIMEZONE
BEGIN:VEVENT
DTSTART;TZID=America/Denver:20251101T090000
DTEND;TZID=America/Denver:20251101T113000
DTSTAMP:20260419T155010
CREATED:20251020T183252Z
LAST-MODIFIED:20251020T183500Z
UID:8234-1761987600-1761996600@organmountainsdesertpeaks.org
SUMMARY:Soledad Canyon/Bar Canyon
DESCRIPTION:Where: Soledad Canyon\nWhen: Saturday\, November 1st at 9 AM; expected finish around  11:30 AM\nDistance: Approximately 3 miles\nFamily-friendly event! \nJoin Jim Enright for this moderate hike of about 3 miles\, which will take roughly 2.5 hours. You’ll have the opportunity to learn about the area’s history and plant life. The route follows a maintained trail leading uphill to the Simmers Homestead before looping back. The path is somewhat rocky with loose stones\, so wearing supportive footwear such as boots is recommended. Make sure to take plenty of water\, snacks\, and sun protection. Please note that there are no bathrooms or water available at the beginning or along the hike.
URL:https://organmountainsdesertpeaks.org/event/soledad-canyon-bar-canyon-2/
LOCATION:Soledad Canyon\, 13300 Soledad Canyon Rd\, Las Cruces\, NM\, 88011\, United States
CATEGORIES:Docent Hike
ATTACH;FMTTYPE=image/jpeg:https://organmountainsdesertpeaks.org/wp-content/uploads/2024/09/IMG_2383_Original-e1727812618407.jpeg
ORGANIZER;CN="Friends of the Organ Mountains-Desert Peaks":MAILTO:jessica@organmtnfriends.org
END:VEVENT
END:VCALENDAR